BEGIN:VCALENDAR
VERSION:2.0
PRODID:-//Gethsemane Lutheran Church - ECPv6.15.17.1//NONSGML v1.0//EN
CALSCALE:GREGORIAN
METHOD:PUBLISH
X-WR-CALNAME:Gethsemane Lutheran Church
X-ORIGINAL-URL:https://www.glcwindsor.org/wordpress
X-WR-CALDESC:Events for Gethsemane Lutheran Church
REFRESH-INTERVAL;VALUE=DURATION:PT1H
X-Robots-Tag:noindex
X-PUBLISHED-TTL:PT1H
BEGIN:VTIMEZONE
TZID:America/Detroit
BEGIN:DAYLIGHT
TZOFFSETFROM:-0500
TZOFFSETTO:-0400
TZNAME:EDT
DTSTART:20250309T070000
END:DAYLIGHT
BEGIN:STANDARD
TZOFFSETFROM:-0400
TZOFFSETTO:-0500
TZNAME:EST
DTSTART:20251102T060000
END:STANDARD
BEGIN:DAYLIGHT
TZOFFSETFROM:-0500
TZOFFSETTO:-0400
TZNAME:EDT
DTSTART:20260308T070000
END:DAYLIGHT
BEGIN:STANDARD
TZOFFSETFROM:-0400
TZOFFSETTO:-0500
TZNAME:EST
DTSTART:20261101T060000
END:STANDARD
BEGIN:DAYLIGHT
TZOFFSETFROM:-0500
TZOFFSETTO:-0400
TZNAME:EDT
DTSTART:20270314T070000
END:DAYLIGHT
BEGIN:STANDARD
TZOFFSETFROM:-0400
TZOFFSETTO:-0500
TZNAME:EST
DTSTART:20271107T060000
END:STANDARD
END:VTIMEZONE
BEGIN:VTIMEZONE
TZID:UTC
BEGIN:STANDARD
TZOFFSETFROM:+0000
TZOFFSETTO:+0000
TZNAME:UTC
DTSTART:20250101T000000
END:STANDARD
END:VTIMEZONE
BEGIN:VEVENT
DTSTART;TZID=America/Detroit:20260403T190000
DTEND;TZID=America/Detroit:20260403T200000
DTSTAMP:20260420T092132
CREATED:20260328T004459Z
LAST-MODIFIED:20260328T005848Z
UID:1961-1775242800-1775246400@www.glcwindsor.org
SUMMARY:Good Friday
DESCRIPTION:A solemn remembrance of Christ’s Passion–his sacrifice and death on the cross. A service of darkness as we reflect on his crucifixion.
URL:https://www.glcwindsor.org/wordpress/event/good-friday/
LOCATION:Church Sanctuary\, 1921 Cabana Rd. W.\, Windsor\, Ontario\, N9G1C7\, Canada
CATEGORIES:Worship
ATTACH;FMTTYPE=image/jpeg:https://www.glcwindsor.org/wordpress/wp-content/uploads/2026/03/Good-Friday.jpg
END:VEVENT
BEGIN:VEVENT
DTSTART;TZID=America/Detroit:20260402T190000
DTEND;TZID=America/Detroit:20260402T200000
DTSTAMP:20260420T092132
CREATED:20260328T004233Z
LAST-MODIFIED:20260328T005816Z
UID:1959-1775156400-1775160000@www.glcwindsor.org
SUMMARY:Maundy Thursday
DESCRIPTION:A service of Holy Communion as we consider the Last Supper. The altar will be stripped\, symbolizing the abandonment of Jesus by his disciples and his stripping by the soldiers before his crucifixion.
URL:https://www.glcwindsor.org/wordpress/event/maundy-thursday/
LOCATION:Church Sanctuary\, 1921 Cabana Rd. W.\, Windsor\, Ontario\, N9G1C7\, Canada
CATEGORIES:Worship
ATTACH;FMTTYPE=image/jpeg:https://www.glcwindsor.org/wordpress/wp-content/uploads/2026/03/Maundy-Thursday.jpg
END:VEVENT
BEGIN:VEVENT
DTSTART;TZID=UTC:20260401T190000
DTEND;TZID=UTC:20260401T210000
DTSTAMP:20260420T092132
CREATED:20150916T204836Z
LAST-MODIFIED:20260328T005348Z
UID:433-1775070000-1775077200@www.glcwindsor.org
SUMMARY:Young Adults
DESCRIPTION:Our Young Adults group meets on Wednesday evenings at 7:00pm. The group is intended for those in Post Secondary School up to age 30. We offer a rotation of events: Bible Study\, Discussion\, Fun & Fellowship Nights\, Outreach\, and Worship Nights. This is a great opportunity to connect with others of the same age in a relaxed environment. Food will be offered each week! \nApril Schedule\nApr. 1 – Ecclesiastes Bible Study\nApr. 8 – Worship Night\, Faith & Life Bible Study\nApr. 15 – Outreach Night\nApr. 22 – Fun & Fellowship Night\nApr. 29 – Bonus Wednesday!
URL:https://www.glcwindsor.org/wordpress/event/young-adults/
LOCATION:Church Sanctuary\, 1921 Cabana Rd. W.\, Windsor\, Ontario\, N9G1C7\, Canada
CATEGORIES:Community,Food,Music,Outreach,Worship
ATTACH;FMTTYPE=image/jpeg:https://www.glcwindsor.org/wordpress/wp-content/uploads/2025/08/IMG_20250806_202017-1-scaled.jpg
ORGANIZER;CN="Gethsemane Lutheran Church":MAILTO:council@glcwindsor.org
END:VEVENT
BEGIN:VEVENT
DTSTART;TZID=America/Detroit:20260329T100000
DTEND;TZID=America/Detroit:20260329T140000
DTSTAMP:20260420T092132
CREATED:20260328T003736Z
LAST-MODIFIED:20260328T005833Z
UID:1953-1774778400-1774792800@www.glcwindsor.org
SUMMARY:Palm Sunday
DESCRIPTION:Join us for our Palm Sunday Service at Gethsemane Lutheran Church! Receive a palm branch to take home and decorate your home. Enjoy a morning of special music and a message of hope as we reenact the Triumphal Entry of Jesus into Jerusalem! \nSunday School to follow service\, as well as a Fellowship Coffee Hour in Kidron Hall. \nNuer Service at 12:30 \n 
URL:https://www.glcwindsor.org/wordpress/event/palm-sunday/
LOCATION:Church Sanctuary\, 1921 Cabana Rd. W.\, Windsor\, Ontario\, N9G1C7\, Canada
CATEGORIES:Food,Worship
ATTACH;FMTTYPE=image/jpeg:https://www.glcwindsor.org/wordpress/wp-content/uploads/2026/03/Palm-Sunday.jpg
END:VEVENT
END:VCALENDAR