BEGIN:VCALENDAR
VERSION:2.0
PRODID:-//Gethsemane Lutheran Church - ECPv6.15.17.1//NONSGML v1.0//EN
CALSCALE:GREGORIAN
METHOD:PUBLISH
X-ORIGINAL-URL:https://www.glcwindsor.org/wordpress
X-WR-CALDESC:Events for Gethsemane Lutheran Church
REFRESH-INTERVAL;VALUE=DURATION:PT1H
X-Robots-Tag:noindex
X-PUBLISHED-TTL:PT1H
BEGIN:VTIMEZONE
TZID:America/Detroit
BEGIN:DAYLIGHT
TZOFFSETFROM:-0500
TZOFFSETTO:-0400
TZNAME:EDT
DTSTART:20250309T070000
END:DAYLIGHT
BEGIN:STANDARD
TZOFFSETFROM:-0400
TZOFFSETTO:-0500
TZNAME:EST
DTSTART:20251102T060000
END:STANDARD
BEGIN:DAYLIGHT
TZOFFSETFROM:-0500
TZOFFSETTO:-0400
TZNAME:EDT
DTSTART:20260308T070000
END:DAYLIGHT
BEGIN:STANDARD
TZOFFSETFROM:-0400
TZOFFSETTO:-0500
TZNAME:EST
DTSTART:20261101T060000
END:STANDARD
BEGIN:DAYLIGHT
TZOFFSETFROM:-0500
TZOFFSETTO:-0400
TZNAME:EDT
DTSTART:20270314T070000
END:DAYLIGHT
BEGIN:STANDARD
TZOFFSETFROM:-0400
TZOFFSETTO:-0500
TZNAME:EST
DTSTART:20271107T060000
END:STANDARD
END:VTIMEZONE
BEGIN:VEVENT
DTSTART;TZID=America/Detroit:20260329T100000
DTEND;TZID=America/Detroit:20260329T140000
DTSTAMP:20260420T091951
CREATED:20260328T003736Z
LAST-MODIFIED:20260328T005833Z
UID:1953-1774778400-1774792800@www.glcwindsor.org
SUMMARY:Palm Sunday
DESCRIPTION:Join us for our Palm Sunday Service at Gethsemane Lutheran Church! Receive a palm branch to take home and decorate your home. Enjoy a morning of special music and a message of hope as we reenact the Triumphal Entry of Jesus into Jerusalem! \nSunday School to follow service\, as well as a Fellowship Coffee Hour in Kidron Hall. \nNuer Service at 12:30 \n 
URL:https://www.glcwindsor.org/wordpress/event/palm-sunday/
LOCATION:Church Sanctuary\, 1921 Cabana Rd. W.\, Windsor\, Ontario\, N9G1C7\, Canada
CATEGORIES:Food,Worship
ATTACH;FMTTYPE=image/jpeg:https://www.glcwindsor.org/wordpress/wp-content/uploads/2026/03/Palm-Sunday.jpg
END:VEVENT
END:VCALENDAR